


BEGIN:VCALENDAR
VERSION:2.0
PRODID:-//Neighbourhood Watch Victoria - ECPv6.15.20//NONSGML v1.0//EN
CALSCALE:GREGORIAN
METHOD:PUBLISH
X-ORIGINAL-URL:https://nhw.com.au
X-WR-CALDESC:Events for Neighbourhood Watch Victoria
REFRESH-INTERVAL;VALUE=DURATION:PT1H
X-Robots-Tag:noindex
X-PUBLISHED-TTL:PT1H
BEGIN:VTIMEZONE
TZID:Australia/Melbourne
BEGIN:STANDARD
TZOFFSETFROM:+1100
TZOFFSETTO:+1000
TZNAME:AEST
DTSTART:20240406T160000
END:STANDARD
BEGIN:DAYLIGHT
TZOFFSETFROM:+1000
TZOFFSETTO:+1100
TZNAME:AEDT
DTSTART:20241005T160000
END:DAYLIGHT
BEGIN:STANDARD
TZOFFSETFROM:+1100
TZOFFSETTO:+1000
TZNAME:AEST
DTSTART:20250405T160000
END:STANDARD
BEGIN:DAYLIGHT
TZOFFSETFROM:+1000
TZOFFSETTO:+1100
TZNAME:AEDT
DTSTART:20251004T160000
END:DAYLIGHT
BEGIN:STANDARD
TZOFFSETFROM:+1100
TZOFFSETTO:+1000
TZNAME:AEST
DTSTART:20260404T160000
END:STANDARD
BEGIN:DAYLIGHT
TZOFFSETFROM:+1000
TZOFFSETTO:+1100
TZNAME:AEDT
DTSTART:20261003T160000
END:DAYLIGHT
END:VTIMEZONE
BEGIN:VEVENT
DTSTART;VALUE=DATE:20251108
DTEND;VALUE=DATE:20251110
DTSTAMP:20260423T025642
CREATED:20251027T010757Z
LAST-MODIFIED:20251027T010838Z
UID:7264-1762560000-1762732799@nhw.com.au
SUMMARY:Dandenong Show
DESCRIPTION:Both Saturday 8th November\, 2025 & Sunday 9th November\, 2025. Come and see our Neighbourhood Watch Greater Dandenong stand at the Dandenong Show Grounds\, where we will have Tips & Tricks on display and our Volunteers will be around to help assist you with any questions you might have on how to keep safe. We should also have some information available for you to be able to gather on the day. Safety comes first and we must try to spread the word together. Let's Watch Out For Each Other.\nCome and chat with us and grab some information on our next Forum\, being held so as a community we can come together and grow our NHW Group to be a great one.
URL:https://nhw.com.au/event/dandenong-show/
LOCATION:Dandenong Showgrounds\, Bennet Street\, Dandenong\, VIC\, 3175\, Australia
CATEGORIES:Festival or Market
ATTACH;FMTTYPE=image/jpeg:https://nhw.com.au/wp-content/uploads/NHW14.11-93-edited.jpg
END:VEVENT
BEGIN:VEVENT
DTSTART;TZID=Australia/Melbourne:20251109T100000
DTEND;TZID=Australia/Melbourne:20251109T140000
DTSTAMP:20260423T025642
CREATED:20251006T050502Z
LAST-MODIFIED:20251006T050502Z
UID:7195-1762682400-1762696800@nhw.com.au
SUMMARY:Safe Plate Day (Doncaster)
DESCRIPTION:Neighbourhood Watch\, in conjunction with Victoria Police\, can fit one-way theft-resistant screws to your number plates to reduce the risk of your plates being stolen. \nStolen number plates are often used in other crimes\, such as petrol theft. It only takes a few minutes for our Neighbourhood Watch volunteers to fit your plates with one-way screws\, reducing the chance of you becoming a victim of crime.
URL:https://nhw.com.au/event/safe-plate-day-doncaster/
LOCATION:Manningham Council Offices\, 699 Doncaster Road\, Doncaster\, VIC\, 3108\, Australia
CATEGORIES:Crime Prevention Month,Safe Plate
ATTACH;FMTTYPE=image/png:https://nhw.com.au/wp-content/uploads/Crime-Prevention-Month-2.png
END:VEVENT
BEGIN:VEVENT
DTSTART;TZID=Australia/Melbourne:20251111T090000
DTEND;TZID=Australia/Melbourne:20251111T130000
DTSTAMP:20260423T025642
CREATED:20251027T011759Z
LAST-MODIFIED:20251027T011759Z
UID:7272-1762851600-1762866000@nhw.com.au
SUMMARY:Casey Remembrance Day
DESCRIPTION:
URL:https://nhw.com.au/event/casey-remembrance-day/
LOCATION:Arthur Wren Hall\, 16-20 Stuart Avenue\, Hampton Park\, VIC\, 3976\, Australia
ATTACH;FMTTYPE=image/jpeg:https://nhw.com.au/wp-content/uploads/remembrance_day_Blog_Image_1200x630.jpg
END:VEVENT
BEGIN:VEVENT
DTSTART;TZID=Australia/Melbourne:20251113T100000
DTEND;TZID=Australia/Melbourne:20251113T120000
DTSTAMP:20260423T025642
CREATED:20250529T190626Z
LAST-MODIFIED:20250529T190813Z
UID:6822-1763028000-1763035200@nhw.com.au
SUMMARY:Coffee with a Cop (Brandon Park)
DESCRIPTION:Enjoy a free cuppa with our local Monash police. \nThis is a casual drop-in catch-up for residents and businesses to ask questions\, learn about community safety issues and hear what our police do to support our community on the 13th of November\, 10 am - 12 pm at Brandon Park (cafe to be confirmed).
URL:https://nhw.com.au/event/coffee-with-a-cop-brandon-park/
LOCATION:Victoria
CATEGORIES:Coffee & Chat
ATTACH;FMTTYPE=image/jpeg:https://nhw.com.au/wp-content/uploads/Coffee-With-a-Copy-Parkmore-Keysborough.jpg
END:VEVENT
BEGIN:VEVENT
DTSTART;TZID=Australia/Melbourne:20251122T090000
DTEND;TZID=Australia/Melbourne:20251122T130000
DTSTAMP:20260423T025642
CREATED:20251120T005652Z
LAST-MODIFIED:20251121T030611Z
UID:7290-1763802000-1763816400@nhw.com.au
SUMMARY:Boroondara Safe Plate Day
DESCRIPTION:NHW Boroondara are running a Safe Plate Event. Come along and have one-way screws fixed to your number plates. We'll be set up at the Trade Drive Through at Bunnings in Hawthorn. \nTime: 9 am to 1 pm \nAddress: Bunnings Hawthorn - Trade drive-through\, 230 Burwood Road\, Hawthorn\, 3122 \n 
URL:https://nhw.com.au/event/boroondara-safe-plate-day/
LOCATION:Victoria
CATEGORIES:Safe Plate
ATTACH;FMTTYPE=image/jpeg:https://nhw.com.au/wp-content/uploads/Neighbourhood-Watch-safe-plate-day-Berwick-Waters-Damien-1-scaled.jpg
END:VEVENT
BEGIN:VEVENT
DTSTART;TZID=Australia/Melbourne:20251125T183000
DTEND;TZID=Australia/Melbourne:20251125T210000
DTSTAMP:20260423T025642
CREATED:20251027T011348Z
LAST-MODIFIED:20251030T010648Z
UID:7269-1764095400-1764104400@nhw.com.au
SUMMARY:Casey Doveton Crime Forum
DESCRIPTION:With Crimestoppers\, NHW\, Victoria Police and City of Casey attending.
URL:https://nhw.com.au/event/casey-doveton-crime-forum/
LOCATION:Autumn Place Community Hub\, 29 Autumn Place\, Doveton\, VIC\, 3177\, Australia
CATEGORIES:Forum
ATTACH;FMTTYPE=image/jpeg:https://nhw.com.au/wp-content/uploads/40thAnniversary_037-scaled.jpg
END:VEVENT
BEGIN:VEVENT
DTSTART;TZID=Australia/Melbourne:20251129T090000
DTEND;TZID=Australia/Melbourne:20251129T123000
DTSTAMP:20260423T025642
CREATED:20251026T233221Z
LAST-MODIFIED:20251026T233221Z
UID:7255-1764406800-1764419400@nhw.com.au
SUMMARY:Safe Plate Day (Warragul)
DESCRIPTION:Have one-way screws fitted to secure your number plates. One-way screws reduce the risk of your number plates being stolen.\nStolen number plates are used on stolen cars used in serious crime as well as petrol theft.
URL:https://nhw.com.au/event/safe-plate-day-warragul/
LOCATION:Bunnings Warragul\, 57 Hazel Drive\, Warragul\, Victoria\, 3820\, Australia
CATEGORIES:Safe Plate
ATTACH;FMTTYPE=image/jpeg:https://nhw.com.au/wp-content/uploads/7.4-Dandenong-Photo-C.jpg
END:VEVENT
BEGIN:VEVENT
DTSTART;TZID=Australia/Melbourne:20251130T110000
DTEND;TZID=Australia/Melbourne:20251130T130000
DTSTAMP:20260423T025642
CREATED:20250930T075443Z
LAST-MODIFIED:20251030T001725Z
UID:7137-1764500400-1764507600@nhw.com.au
SUMMARY:Safe Plate (Bayside)
DESCRIPTION:Have one-way screws fitted to secure your number plates. One-way screws reduce the risk of your number plates being stolen.\nStolen number plates are used on stolen cars used in serious crime as well as petrol theft. Gold Coin Donation accepted.
URL:https://nhw.com.au/event/safe-plate-bayside/
LOCATION:Bayside City Council Carpark\, 76 Royal Avenue\, Sandringham\, VIC\, 3191\, Australia
CATEGORIES:Crime Prevention Month,Safe Plate
ATTACH;FMTTYPE=image/png:https://nhw.com.au/wp-content/uploads/Crime-Prevention-Month-2.png
END:VEVENT
END:VCALENDAR