


BEGIN:VCALENDAR
VERSION:2.0
PRODID:-//Neighbourhood Watch Victoria - ECPv6.15.20//NONSGML v1.0//EN
CALSCALE:GREGORIAN
METHOD:PUBLISH
X-ORIGINAL-URL:https://nhw.com.au
X-WR-CALDESC:Events for Neighbourhood Watch Victoria
REFRESH-INTERVAL;VALUE=DURATION:PT1H
X-Robots-Tag:noindex
X-PUBLISHED-TTL:PT1H
BEGIN:VTIMEZONE
TZID:Australia/Melbourne
BEGIN:STANDARD
TZOFFSETFROM:+1100
TZOFFSETTO:+1000
TZNAME:AEST
DTSTART:20240406T160000
END:STANDARD
BEGIN:DAYLIGHT
TZOFFSETFROM:+1000
TZOFFSETTO:+1100
TZNAME:AEDT
DTSTART:20241005T160000
END:DAYLIGHT
BEGIN:STANDARD
TZOFFSETFROM:+1100
TZOFFSETTO:+1000
TZNAME:AEST
DTSTART:20250405T160000
END:STANDARD
BEGIN:DAYLIGHT
TZOFFSETFROM:+1000
TZOFFSETTO:+1100
TZNAME:AEDT
DTSTART:20251004T160000
END:DAYLIGHT
BEGIN:STANDARD
TZOFFSETFROM:+1100
TZOFFSETTO:+1000
TZNAME:AEST
DTSTART:20260404T160000
END:STANDARD
BEGIN:DAYLIGHT
TZOFFSETFROM:+1000
TZOFFSETTO:+1100
TZNAME:AEDT
DTSTART:20261003T160000
END:DAYLIGHT
END:VTIMEZONE
BEGIN:VEVENT
DTSTART;TZID=Australia/Melbourne:20250903T190000
DTEND;TZID=Australia/Melbourne:20250903T200000
DTSTAMP:20260423T052813
CREATED:20250820T224642Z
LAST-MODIFIED:20250821T052723Z
UID:6934-1756926000-1756929600@nhw.com.au
SUMMARY:Frankston September Meeting (Home security)
DESCRIPTION:Time of event\n\n\n7:00 PM\n\n\nAddress\n\n\nFrankston Mechanics Hall\, 1 Plowman Place\, Frankston\, 3199\n\n\nEvent Description\n\n\nMonthly meeting with vendors exhibiting ways to keep your home secure\, such as cameras\, alarms\, locks etc. A demonstration on home safety and a discussion with Victoria Police
URL:https://nhw.com.au/event/frankston-september-meeting-home-security/
LOCATION:Victoria
CATEGORIES:NHW Meeting
END:VEVENT
BEGIN:VEVENT
DTSTART;TZID=Australia/Melbourne:20250906T093000
DTEND;TZID=Australia/Melbourne:20250906T113000
DTSTAMP:20260423T052813
CREATED:20250820T224501Z
LAST-MODIFIED:20250827T055600Z
UID:6931-1757151000-1757158200@nhw.com.au
SUMMARY:Connect to your Community Tarnagulla
DESCRIPTION:Date of the event\n\n\n06/09/2025\n\n\nTime of event\n\n\n9:30 AM\n\n\nAddress\n\n\n101 Commercial Road\, Tarnagulla\, 3551\n\n\nEvent Description\n\n\nA community event to showcase the available services\, such as Neighbourhood Watch\, Police\, CFA\, SES\, Ambulance and local groups to the town and Loddon Shire residents.
URL:https://nhw.com.au/event/connect-to-your-community-tarnagulla/
LOCATION:Victoria
CATEGORIES:Crime Prevention Month
END:VEVENT
BEGIN:VEVENT
DTSTART;TZID=Australia/Melbourne:20250911T100000
DTEND;TZID=Australia/Melbourne:20250911T120000
DTSTAMP:20260423T052813
CREATED:20250529T185852Z
LAST-MODIFIED:20250529T190504Z
UID:6818-1757584800-1757592000@nhw.com.au
SUMMARY:Coffee with a Cop (Oakleigh Central)
DESCRIPTION:Enjoy a free cuppa with our local Monash police. \nThis is a casual drop-in catch-up for residents and businesses to ask questions\, learn about community safety issues and hear what our police do to support our community on the 11th of September\, 10 am - 12 pm at the Orange Bean\, Oakleigh Central. \n 
URL:https://nhw.com.au/event/coffee-with-a-cop/
LOCATION:Victoria
CATEGORIES:Coffee & Chat
ATTACH;FMTTYPE=image/jpeg:https://nhw.com.au/wp-content/uploads/Coffee-With-a-Copy-Parkmore-Keysborough.jpg
END:VEVENT
BEGIN:VEVENT
DTSTART;TZID=Australia/Melbourne:20250911T190000
DTEND;TZID=Australia/Melbourne:20250911T200000
DTSTAMP:20260423T052813
CREATED:20250827T061641Z
LAST-MODIFIED:20250827T061641Z
UID:6975-1757617200-1757620800@nhw.com.au
SUMMARY:Neighbourhood Watch Meeting (Niddrie)
DESCRIPTION:Niddrie Neighbourhood Watch will be meeting on Thursday\, 11th September 2025 7.30pm at The Hub\, Matthews Ave. Look out for our sign directing you to the meeting. A Police member may be present to answer any questions you might have. \nYour Area Coordinator is: Raymond Isaac Email: raymondlisaac@optusnet.com.au \nMobile: 0412 657 733
URL:https://nhw.com.au/event/neighbourhood-watch-meeting-niddrie/
LOCATION:Victoria
CATEGORIES:NHW Meeting
ATTACH;FMTTYPE=image/jpeg:https://nhw.com.au/wp-content/uploads/NHW14.11-93-edited.jpg
END:VEVENT
BEGIN:VEVENT
DTSTART;TZID=Australia/Melbourne:20250916T110000
DTEND;TZID=Australia/Melbourne:20250916T120000
DTSTAMP:20260423T052813
CREATED:20250827T062040Z
LAST-MODIFIED:20250827T062040Z
UID:6980-1758020400-1758024000@nhw.com.au
SUMMARY:Coffee with a Cop (Niddrie)
DESCRIPTION:Enjoy a free cuppa with our local Niddrie police. \nThis is a casual drop-in catch-up for residents and businesses to ask questions\, learn about community safety issues and hear what our police do to support our community on the 16th of September\, 11 am - 12 pm at the CENTREWAY\, EAST KEILOR\, BETWEEN 11 AM & 12pm
URL:https://nhw.com.au/event/coffee-with-a-cop-niddrie-2/
LOCATION:Victoria
CATEGORIES:Coffee & Chat
ATTACH;FMTTYPE=image/jpeg:https://nhw.com.au/wp-content/uploads/NHW14.11-93-edited.jpg
END:VEVENT
BEGIN:VEVENT
DTSTART;TZID=Australia/Melbourne:20250929T080000
DTEND;TZID=Australia/Melbourne:20250929T110000
DTSTAMP:20260423T052813
CREATED:20250929T034615Z
LAST-MODIFIED:20250929T035215Z
UID:7032-1759132800-1759143600@nhw.com.au
SUMMARY:Coffee with a Cop (Bellarine)
DESCRIPTION:Neighbourhood Watch will be in attendance with Bellarine Police.\nThis day also marks Police Remembrance Day. Blue Ribbon Foundation items will be available for purchase.
URL:https://nhw.com.au/event/coffee-with-a-cop-bellarine/
LOCATION:Bunnings Leopold carpark\, 621-629 Bellarine Highway\, Leopold
CATEGORIES:Coffee & Chat
ATTACH;FMTTYPE=image/jpeg:https://nhw.com.au/wp-content/uploads/Coffee-With-a-Copy-Parkmore-Keysborough.jpg
END:VEVENT
END:VCALENDAR