


BEGIN:VCALENDAR
VERSION:2.0
PRODID:-//Neighbourhood Watch Victoria - ECPv6.15.20//NONSGML v1.0//EN
CALSCALE:GREGORIAN
METHOD:PUBLISH
X-WR-CALNAME:Neighbourhood Watch Victoria
X-ORIGINAL-URL:https://nhw.com.au
X-WR-CALDESC:Events for Neighbourhood Watch Victoria
REFRESH-INTERVAL;VALUE=DURATION:PT1H
X-Robots-Tag:noindex
X-PUBLISHED-TTL:PT1H
BEGIN:VTIMEZONE
TZID:Australia/Melbourne
BEGIN:STANDARD
TZOFFSETFROM:+1100
TZOFFSETTO:+1000
TZNAME:AEST
DTSTART:20250405T160000
END:STANDARD
BEGIN:DAYLIGHT
TZOFFSETFROM:+1000
TZOFFSETTO:+1100
TZNAME:AEDT
DTSTART:20251004T160000
END:DAYLIGHT
BEGIN:STANDARD
TZOFFSETFROM:+1100
TZOFFSETTO:+1000
TZNAME:AEST
DTSTART:20260404T160000
END:STANDARD
BEGIN:DAYLIGHT
TZOFFSETFROM:+1000
TZOFFSETTO:+1100
TZNAME:AEDT
DTSTART:20261003T160000
END:DAYLIGHT
BEGIN:STANDARD
TZOFFSETFROM:+1100
TZOFFSETTO:+1000
TZNAME:AEST
DTSTART:20270403T160000
END:STANDARD
BEGIN:DAYLIGHT
TZOFFSETFROM:+1000
TZOFFSETTO:+1100
TZNAME:AEDT
DTSTART:20271002T160000
END:DAYLIGHT
END:VTIMEZONE
BEGIN:VEVENT
DTSTART;TZID=Australia/Melbourne:20260321T100000
DTEND;TZID=Australia/Melbourne:20260321T123000
DTSTAMP:20260423T081404
CREATED:20260126T230044Z
LAST-MODIFIED:20260317T024743Z
UID:7313-1774087200-1774096200@nhw.com.au
SUMMARY:Safe Plate Wyndham
DESCRIPTION:Have one-way screws fitted to secure your number plates. One-way screws reduce the risk of your number plates being stolen. Stolen number plates are used on stolen cars used in serious crime as well as petrol theft. \nCome and get your plates protected at Bunnings Manor Lakes will be held on Saturday\, 21st March from 10 am to 12.30 pm by NHW Wyndham\, NHW Saltwater and NHW Point Cook Central in conjunction with Werribee Proactive Unit (VicPol) & SES Wyndham West. \nRACV will be there as well providing free battery and tyre checks along with providing child restraint advice. \nGold coin donations are accepted.
URL:https://nhw.com.au/event/safe-plate-wyndham/
LOCATION:Victoria
CATEGORIES:Safe Plate
ATTACH;FMTTYPE=image/jpeg:https://nhw.com.au/wp-content/uploads/Neighbourhood-Watch-safe-plate-day-Berwick-Waters-Damien-scaled.jpg
END:VEVENT
BEGIN:VEVENT
DTSTART;TZID=Australia/Melbourne:20260322T100000
DTEND;TZID=Australia/Melbourne:20260322T100000
DTSTAMP:20260423T081404
CREATED:20260316T035414Z
LAST-MODIFIED:20260316T035414Z
UID:7413-1774173600-1774173600@nhw.com.au
SUMMARY:Safe Plate Day NHW Manningham
DESCRIPTION:Safe Plate Day: Stop thieves stealing your number plates\nNeighborhood Watch\, in conjunction with Victoria Police\, can fit one-way theft-resistant screws to your number plates to reduce the risk of your plates being stolen. \nStolen number plates are often used in other crimes such as petrol theft. It only takes a few minutes for our Neighbourhood Watch volunteers to fit your plates with one-way screws\, reducing the chance of you becoming a victim of crime. \n\nEvent Details:\nDate: Sunday 22 March 2026 \nTime: 10:00am to 2:00pm \nLocation: Behind the Manningham Council Offices \nAddress: 699 Doncaster Road\, Doncaster \nFREE! Any donation to support Neighbourhood Watch would be appreciated.
URL:https://nhw.com.au/event/safe-plate-day-nhw-manningham/
LOCATION:Manningham Council Offices\, 699 Doncaster Road\, Doncaster\, VIC\, 3108\, Australia
CATEGORIES:Safe Plate
END:VEVENT
BEGIN:VEVENT
DTSTART;TZID=Australia/Melbourne:20260326T180000
DTEND;TZID=Australia/Melbourne:20260326T200000
DTSTAMP:20260423T081404
CREATED:20260317T041926Z
LAST-MODIFIED:20260415T013444Z
UID:7426-1774548000-1774555200@nhw.com.au
SUMMARY:Easter Family Night - NHW South Mitchell
DESCRIPTION:Bunnings Easter Family Night - 26 March\, 2026\n  \nJoin the South Mitchell Neighbourhood Watch team at the Bunnings Easter Family Night\, between 6pm & 8pm. \nWe’re giving away expert crime prevention strategies and some products to help you protect what matters most. See you there!
URL:https://nhw.com.au/event/easter-family-night-nhw-south-mitchell/
LOCATION:Bunnings Craigieburn\, 700 Hume Hwy\, Craigieburn\, Australia
CATEGORIES:Festival or Market
END:VEVENT
BEGIN:VEVENT
DTSTART;TZID=Australia/Melbourne:20260411T080000
DTEND;TZID=Australia/Melbourne:20260411T160000
DTSTAMP:20260423T081404
CREATED:20260316T040215Z
LAST-MODIFIED:20260316T040254Z
UID:7420-1775894400-1775923200@nhw.com.au
SUMMARY:Bunnings Craigieburn Sausage Sizzle
DESCRIPTION:Bunnings Craigieburn Sausage Sizzle - 11 April 2026\n  \nThis is our main fundraising event for the year and this year we will be sharing our profits with Kilmore SES. \nWe will be hosting the sausage sizzle between 8am to 4pm on 11 April 2026. \nAll monies we raise help keep your local Neighbourhood Watch Group going in your local community.
URL:https://nhw.com.au/event/bunnings-craigieburn-sausage-sizzle/
LOCATION:Bunnings Craigieburn\, 700 Hume Hwy\, Craigieburn\, Australia
CATEGORIES:Sausage Sizzle, BBQ or Picnic
END:VEVENT
BEGIN:VEVENT
DTSTART;TZID=Australia/Melbourne:20260418T090000
DTEND;TZID=Australia/Melbourne:20260418T120000
DTSTAMP:20260423T081404
CREATED:20260323T020013Z
LAST-MODIFIED:20260414T232647Z
UID:7435-1776502800-1776513600@nhw.com.au
SUMMARY:NHW Bellarine - Safe Plate
DESCRIPTION:Safe Plate Kingstone Village\nSaturday 18 April 2026 - 9am to 12pm \nProtect your number plates form being stolen! \nHave one-way screws fitted to secure your number plates. One-way screws reduce the risk of your number plates being stolen.  Gold coin donation appreciated \nKingston Village Shopping Centre\,\n122-160 Grubb Road\,\nOcean Grove \n 
URL:https://nhw.com.au/event/nhw-bellarine-safe-plate/
LOCATION:Kingston Village Shopping Centre\, 122-160 Grubb Road\, Ocean Grove\, Victoria\, 3226\, Australia
CATEGORIES:Safe Plate
END:VEVENT
END:VCALENDAR