


BEGIN:VCALENDAR
VERSION:2.0
PRODID:-//Neighbourhood Watch Victoria - ECPv6.15.20//NONSGML v1.0//EN
CALSCALE:GREGORIAN
METHOD:PUBLISH
X-ORIGINAL-URL:https://nhw.com.au
X-WR-CALDESC:Events for Neighbourhood Watch Victoria
REFRESH-INTERVAL;VALUE=DURATION:PT1H
X-Robots-Tag:noindex
X-PUBLISHED-TTL:PT1H
BEGIN:VTIMEZONE
TZID:Australia/Melbourne
BEGIN:STANDARD
TZOFFSETFROM:+1100
TZOFFSETTO:+1000
TZNAME:AEST
DTSTART:20250405T160000
END:STANDARD
BEGIN:DAYLIGHT
TZOFFSETFROM:+1000
TZOFFSETTO:+1100
TZNAME:AEDT
DTSTART:20251004T160000
END:DAYLIGHT
BEGIN:STANDARD
TZOFFSETFROM:+1100
TZOFFSETTO:+1000
TZNAME:AEST
DTSTART:20260404T160000
END:STANDARD
BEGIN:DAYLIGHT
TZOFFSETFROM:+1000
TZOFFSETTO:+1100
TZNAME:AEDT
DTSTART:20261003T160000
END:DAYLIGHT
BEGIN:STANDARD
TZOFFSETFROM:+1100
TZOFFSETTO:+1000
TZNAME:AEST
DTSTART:20270403T160000
END:STANDARD
BEGIN:DAYLIGHT
TZOFFSETFROM:+1000
TZOFFSETTO:+1100
TZNAME:AEDT
DTSTART:20271002T160000
END:DAYLIGHT
END:VTIMEZONE
BEGIN:VEVENT
DTSTART;TZID=Australia/Melbourne:20260226T183000
DTEND;TZID=Australia/Melbourne:20260226T193000
DTSTAMP:20260422T211433
CREATED:20260206T032815Z
LAST-MODIFIED:20260206T032815Z
UID:7347-1772130600-1772134200@nhw.com.au
SUMMARY:Community Safety Information Session - Kyneton
DESCRIPTION:You are invited to attend a community discussion about forming a Neighbourhood Watch group to help residents of Kyneton connect with their neighbours\, and learn the simple things they can do to keep their homes\, cars and families safe. \nLocation: Kyneton Bushland Resort\, 36 Melville Dr\, Kyneton VIC 3444 \nRegister to attend here
URL:https://nhw.com.au/event/community-safety-information-session-kyneton/
LOCATION:Kyneton
CATEGORIES:Forum
END:VEVENT
END:VCALENDAR