


BEGIN:VCALENDAR
VERSION:2.0
PRODID:-//Neighbourhood Watch Victoria - ECPv6.15.20//NONSGML v1.0//EN
CALSCALE:GREGORIAN
METHOD:PUBLISH
X-WR-CALNAME:Neighbourhood Watch Victoria
X-ORIGINAL-URL:https://nhw.com.au
X-WR-CALDESC:Events for Neighbourhood Watch Victoria
REFRESH-INTERVAL;VALUE=DURATION:PT1H
X-Robots-Tag:noindex
X-PUBLISHED-TTL:PT1H
BEGIN:VTIMEZONE
TZID:Australia/Melbourne
BEGIN:STANDARD
TZOFFSETFROM:+1100
TZOFFSETTO:+1000
TZNAME:AEST
DTSTART:20250405T160000
END:STANDARD
BEGIN:DAYLIGHT
TZOFFSETFROM:+1000
TZOFFSETTO:+1100
TZNAME:AEDT
DTSTART:20251004T160000
END:DAYLIGHT
BEGIN:STANDARD
TZOFFSETFROM:+1100
TZOFFSETTO:+1000
TZNAME:AEST
DTSTART:20260404T160000
END:STANDARD
BEGIN:DAYLIGHT
TZOFFSETFROM:+1000
TZOFFSETTO:+1100
TZNAME:AEDT
DTSTART:20261003T160000
END:DAYLIGHT
BEGIN:STANDARD
TZOFFSETFROM:+1100
TZOFFSETTO:+1000
TZNAME:AEST
DTSTART:20270403T160000
END:STANDARD
BEGIN:DAYLIGHT
TZOFFSETFROM:+1000
TZOFFSETTO:+1100
TZNAME:AEDT
DTSTART:20271002T160000
END:DAYLIGHT
END:VTIMEZONE
BEGIN:VEVENT
DTSTART;TZID=Australia/Melbourne:20260207T100000
DTEND;TZID=Australia/Melbourne:20260210T140000
DTSTAMP:20260422T223652
CREATED:20260206T024443Z
LAST-MODIFIED:20260206T024443Z
UID:7335-1770458400-1770732000@nhw.com.au
SUMMARY:Pakenham Bunnings - NHW Eastern Ranges Pop-up
DESCRIPTION:NHW Eastern Ranges will be located outside the front entrance of Bunnings Pakenham\, fundraising for equipment to support their crime prevention work in Cardinia\, on Saturday 7 Feb\, Monday 9 Feb and Tuesday 10 February. \nLocation: Bunnings Pakenham\, 855 Princes Hwy
URL:https://nhw.com.au/event/pakenham-bunnings-nhw-eastern-ranges-pop-up/
LOCATION:Bunnings Pakenham
CATEGORIES:Information Display
END:VEVENT
END:VCALENDAR