


BEGIN:VCALENDAR
VERSION:2.0
PRODID:-//Neighbourhood Watch Victoria - ECPv6.15.20//NONSGML v1.0//EN
CALSCALE:GREGORIAN
METHOD:PUBLISH
X-WR-CALNAME:Neighbourhood Watch Victoria
X-ORIGINAL-URL:https://nhw.com.au
X-WR-CALDESC:Events for Neighbourhood Watch Victoria
REFRESH-INTERVAL;VALUE=DURATION:PT1H
X-Robots-Tag:noindex
X-PUBLISHED-TTL:PT1H
BEGIN:VTIMEZONE
TZID:Australia/Melbourne
BEGIN:STANDARD
TZOFFSETFROM:+1100
TZOFFSETTO:+1000
TZNAME:AEST
DTSTART:20240406T160000
END:STANDARD
BEGIN:DAYLIGHT
TZOFFSETFROM:+1000
TZOFFSETTO:+1100
TZNAME:AEDT
DTSTART:20241005T160000
END:DAYLIGHT
BEGIN:STANDARD
TZOFFSETFROM:+1100
TZOFFSETTO:+1000
TZNAME:AEST
DTSTART:20250405T160000
END:STANDARD
BEGIN:DAYLIGHT
TZOFFSETFROM:+1000
TZOFFSETTO:+1100
TZNAME:AEDT
DTSTART:20251004T160000
END:DAYLIGHT
BEGIN:STANDARD
TZOFFSETFROM:+1100
TZOFFSETTO:+1000
TZNAME:AEST
DTSTART:20260404T160000
END:STANDARD
BEGIN:DAYLIGHT
TZOFFSETFROM:+1000
TZOFFSETTO:+1100
TZNAME:AEDT
DTSTART:20261003T160000
END:DAYLIGHT
END:VTIMEZONE
BEGIN:VEVENT
DTSTART;TZID=Australia/Melbourne:20251019T100000
DTEND;TZID=Australia/Melbourne:20251019T120000
DTSTAMP:20260423T040929
CREATED:20250929T054803Z
LAST-MODIFIED:20251006T003008Z
UID:7115-1760868000-1760875200@nhw.com.au
SUMMARY:Safe Plate Kingsgate Village Kilmore
DESCRIPTION:Have one-way screws fitted to secure your number plates. One-way screws reduce the risk of your number plates being stolen.\nStolen number plates are used on stolen cars used in serious crime as well as petrol theft. Gold Coin Donation accepted.
URL:https://nhw.com.au/event/safe-plate-kingsgate-village-kilmore/
LOCATION:Kingsgate Village\, 40 Royal Parade\, Kilmore\, Victoria\, 3764\, Australia
CATEGORIES:Crime Prevention Month,Safe Plate
ATTACH;FMTTYPE=image/png:https://nhw.com.au/wp-content/uploads/Crime-Prevention-Month-2.png
END:VEVENT
BEGIN:VEVENT
DTSTART;TZID=Australia/Melbourne:20251019T100000
DTEND;TZID=Australia/Melbourne:20251019T140000
DTSTAMP:20260423T040929
CREATED:20251007T045318Z
LAST-MODIFIED:20251007T045318Z
UID:7232-1760868000-1760882400@nhw.com.au
SUMMARY:Casey CFA Lynbrook Satellite Station Open Day
DESCRIPTION:CFA Open Day at the Hampton Park CFA Open Day Satellite Station in Lynbrook. Meeting firefighters\, fire trucks and kid activities.
URL:https://nhw.com.au/event/casey-cfa-lynbrook-satellite-station-open-day/
LOCATION:Hampton Park Fire Brigade (CFA)\, 50 Commercial Drive\, Lynbrook\, VIC\, 3975\, Australia
CATEGORIES:Crime Prevention Month
ATTACH;FMTTYPE=image/png:https://nhw.com.au/wp-content/uploads/Crime-Prevention-Month-2.png
END:VEVENT
BEGIN:VEVENT
DTSTART;TZID=Australia/Melbourne:20251019T100000
DTEND;TZID=Australia/Melbourne:20251019T160000
DTSTAMP:20260423T040929
CREATED:20250929T054435Z
LAST-MODIFIED:20251006T002947Z
UID:7112-1760868000-1760889600@nhw.com.au
SUMMARY:City of Whitehorse Spring Festival
DESCRIPTION:Learn Crime Prevention tips and meet our local NHW group at the festival! Come and check out our Mini House while you are there. Registration is not required.
URL:https://nhw.com.au/event/city-of-whitehorse-spring-festival/
LOCATION:Whitehorse Road\, Whitehorse Road\, Nunawading\, Victoria\, 3131\, Australia
CATEGORIES:Crime Prevention Month,Safe Plate
ATTACH;FMTTYPE=image/png:https://nhw.com.au/wp-content/uploads/Crime-Prevention-Month-2.png
END:VEVENT
END:VCALENDAR