


BEGIN:VCALENDAR
VERSION:2.0
PRODID:-//Neighbourhood Watch Victoria - ECPv6.15.20//NONSGML v1.0//EN
CALSCALE:GREGORIAN
METHOD:PUBLISH
X-ORIGINAL-URL:https://nhw.com.au
X-WR-CALDESC:Events for Neighbourhood Watch Victoria
REFRESH-INTERVAL;VALUE=DURATION:PT1H
X-Robots-Tag:noindex
X-PUBLISHED-TTL:PT1H
BEGIN:VTIMEZONE
TZID:Australia/Melbourne
BEGIN:STANDARD
TZOFFSETFROM:+1100
TZOFFSETTO:+1000
TZNAME:AEST
DTSTART:20240406T160000
END:STANDARD
BEGIN:DAYLIGHT
TZOFFSETFROM:+1000
TZOFFSETTO:+1100
TZNAME:AEDT
DTSTART:20241005T160000
END:DAYLIGHT
BEGIN:STANDARD
TZOFFSETFROM:+1100
TZOFFSETTO:+1000
TZNAME:AEST
DTSTART:20250405T160000
END:STANDARD
BEGIN:DAYLIGHT
TZOFFSETFROM:+1000
TZOFFSETTO:+1100
TZNAME:AEDT
DTSTART:20251004T160000
END:DAYLIGHT
BEGIN:STANDARD
TZOFFSETFROM:+1100
TZOFFSETTO:+1000
TZNAME:AEST
DTSTART:20260404T160000
END:STANDARD
BEGIN:DAYLIGHT
TZOFFSETFROM:+1000
TZOFFSETTO:+1100
TZNAME:AEDT
DTSTART:20261003T160000
END:DAYLIGHT
END:VTIMEZONE
BEGIN:VEVENT
DTSTART;TZID=Australia/Melbourne:20251018T073000
DTEND;TZID=Australia/Melbourne:20251018T123000
DTSTAMP:20260423T052741
CREATED:20250930T074548Z
LAST-MODIFIED:20250930T075214Z
UID:7124-1760772600-1760790600@nhw.com.au
SUMMARY:Emergency Services Pop Up Event (Boroondara)
DESCRIPTION:Meet you local emergency services groups - SES\, Police\, Fire Services\, NHW provide information to members of public.
URL:https://nhw.com.au/event/emergency-services-pop-up-event-boroondara/
LOCATION:Patterson Reserve\, 484 Auburn Road\, Hawthorn\, VIC\, 3144\, Australia
CATEGORIES:Crime Prevention Month
ATTACH;FMTTYPE=image/png:https://nhw.com.au/wp-content/uploads/Crime-Prevention-Month-2.png
END:VEVENT
BEGIN:VEVENT
DTSTART;TZID=Australia/Melbourne:20251018T080000
DTEND;TZID=Australia/Melbourne:20251018T120000
DTSTAMP:20260423T052741
CREATED:20250929T053848Z
LAST-MODIFIED:20250929T053848Z
UID:7105-1760774400-1760788800@nhw.com.au
SUMMARY:Rutherglen Infomation Day
DESCRIPTION:Learn Crime Prevention tips and meet our local NHW group.
URL:https://nhw.com.au/event/rutherglen-infomation-day/
LOCATION:Rutherglen Newsagency\, 128-130 Main Street\, Rutherglen\, Victoria\, 3685\, Australia
CATEGORIES:Crime Prevention Month
ATTACH;FMTTYPE=image/png:https://nhw.com.au/wp-content/uploads/Crime-Prevention-Month-2.png
END:VEVENT
BEGIN:VEVENT
DTSTART;TZID=Australia/Melbourne:20251018T090000
DTEND;TZID=Australia/Melbourne:20251018T160000
DTSTAMP:20260423T052741
CREATED:20250929T054222Z
LAST-MODIFIED:20250929T054222Z
UID:7109-1760778000-1760803200@nhw.com.au
SUMMARY:Bunnings Leopold BBQ and Crime Prevention Information Pop Up
DESCRIPTION:As part of Crime Prevention Month\, Bellarine Community Support Register and Neighbourhood Watch Bellarine will be running the Sausage Sizzle at Bunnings Leopold on Saturday 18 October. Come along and support us.\nCrime prevention information will be available\, and personal alarms\, UV pens and Faraday Pouches will be available for purchase.
URL:https://nhw.com.au/event/bunnings-leopold-bbq-and-crime-prevention-information-pop-up/
LOCATION:Bunnings Leopold carpark\, 621-629 Bellarine Highway\, Leopold
CATEGORIES:Crime Prevention Month
ATTACH;FMTTYPE=image/png:https://nhw.com.au/wp-content/uploads/Crime-Prevention-Month-2.png
END:VEVENT
BEGIN:VEVENT
DTSTART;TZID=Australia/Melbourne:20251018T093000
DTEND;TZID=Australia/Melbourne:20251018T110000
DTSTAMP:20260423T052741
CREATED:20250820T224247Z
LAST-MODIFIED:20250827T055225Z
UID:6927-1760779800-1760785200@nhw.com.au
SUMMARY:Mark your Bike\, Scooter or Tools Footscray
DESCRIPTION:Date of the event\n\n\n18/10/2025\n\n\nTime of event\n\n\n9:30 AM\n\n\nAddress\n\n\nJoseph Road\, Fooscray\, 3011\n\n\nEvent Description\n\n\nA Neighbourhood Watch Footscray information and engagement stall at the Joseph Road parklands - on the lawn area next to the Maribyrnong River with walking paths\, and cafes close by. \nThe goal is to connect with the community\, share crime prevention tips\, and help them protect their bike\, scooter and tools. \nThis is an opportunity to offer:\n• Bike\, scooter and tool marking (engraving)\n• Registration through Property Vault\n• Free NHW resources and advice\n• A friendly chat over a coffee!
URL:https://nhw.com.au/event/mark-your-bike-scooter-or-tools-footscray/
LOCATION:Victoria
CATEGORIES:Crime Prevention Month
ATTACH;FMTTYPE=image/png:https://nhw.com.au/wp-content/uploads/Crime-Prevention-Month-2.png
END:VEVENT
BEGIN:VEVENT
DTSTART;TZID=Australia/Melbourne:20251018T100000
DTEND;TZID=Australia/Melbourne:20251018T140000
DTSTAMP:20260423T052741
CREATED:20251007T044824Z
LAST-MODIFIED:20251007T044824Z
UID:7229-1760781600-1760796000@nhw.com.au
SUMMARY:Casey CFA Hampton Park Open Day
DESCRIPTION:At Hampton Park Station and open for everyone. Look at the trucks\, activities\, and meeting firefighters.
URL:https://nhw.com.au/event/casey-cfa-hampton-park-open-day/
LOCATION:Hampton Park Police Station\, 112 Somerville Road\, Hampton Park\, VIC\, 3976\, Australia
CATEGORIES:Crime Prevention Month
ATTACH;FMTTYPE=image/png:https://nhw.com.au/wp-content/uploads/Crime-Prevention-Month-2.png
END:VEVENT
END:VCALENDAR