


BEGIN:VCALENDAR
VERSION:2.0
PRODID:-//Neighbourhood Watch Victoria - ECPv6.15.20//NONSGML v1.0//EN
CALSCALE:GREGORIAN
METHOD:PUBLISH
X-WR-CALNAME:Neighbourhood Watch Victoria
X-ORIGINAL-URL:https://nhw.com.au
X-WR-CALDESC:Events for Neighbourhood Watch Victoria
REFRESH-INTERVAL;VALUE=DURATION:PT1H
X-Robots-Tag:noindex
X-PUBLISHED-TTL:PT1H
BEGIN:VTIMEZONE
TZID:Australia/Melbourne
BEGIN:STANDARD
TZOFFSETFROM:+1100
TZOFFSETTO:+1000
TZNAME:AEST
DTSTART:20240406T160000
END:STANDARD
BEGIN:DAYLIGHT
TZOFFSETFROM:+1000
TZOFFSETTO:+1100
TZNAME:AEDT
DTSTART:20241005T160000
END:DAYLIGHT
BEGIN:STANDARD
TZOFFSETFROM:+1100
TZOFFSETTO:+1000
TZNAME:AEST
DTSTART:20250405T160000
END:STANDARD
BEGIN:DAYLIGHT
TZOFFSETFROM:+1000
TZOFFSETTO:+1100
TZNAME:AEDT
DTSTART:20251004T160000
END:DAYLIGHT
BEGIN:STANDARD
TZOFFSETFROM:+1100
TZOFFSETTO:+1000
TZNAME:AEST
DTSTART:20260404T160000
END:STANDARD
BEGIN:DAYLIGHT
TZOFFSETFROM:+1000
TZOFFSETTO:+1100
TZNAME:AEDT
DTSTART:20261003T160000
END:DAYLIGHT
END:VTIMEZONE
BEGIN:VEVENT
DTSTART;TZID=Australia/Melbourne:20251016T100000
DTEND;TZID=Australia/Melbourne:20251016T120000
DTSTAMP:20260423T040927
CREATED:20251001T054020Z
LAST-MODIFIED:20251014T001021Z
UID:7171-1760608800-1760616000@nhw.com.au
SUMMARY:Coffee with a Cop (Greater Geelong)
DESCRIPTION:An opportunity to have a coffee and chat with police members from Waurn Ponds Police and Neighbourhood Watch\, and discuss issues within the community. Also fitting one-way screws to number plates.
URL:https://nhw.com.au/event/coffee-with-a-cop-greater-geelong/
LOCATION:Bunnings Waurn Ponds\, 237 Colac Road\, Waurn Ponds\, VIC\, 3216\, Australia
CATEGORIES:Crime Prevention Month
ATTACH;FMTTYPE=image/png:https://nhw.com.au/wp-content/uploads/Crime-Prevention-Month-2.png
END:VEVENT
END:VCALENDAR