


BEGIN:VCALENDAR
VERSION:2.0
PRODID:-//Neighbourhood Watch Victoria - ECPv6.15.20//NONSGML v1.0//EN
CALSCALE:GREGORIAN
METHOD:PUBLISH
X-WR-CALNAME:Neighbourhood Watch Victoria
X-ORIGINAL-URL:https://nhw.com.au
X-WR-CALDESC:Events for Neighbourhood Watch Victoria
REFRESH-INTERVAL;VALUE=DURATION:PT1H
X-Robots-Tag:noindex
X-PUBLISHED-TTL:PT1H
BEGIN:VTIMEZONE
TZID:Australia/Melbourne
BEGIN:STANDARD
TZOFFSETFROM:+1100
TZOFFSETTO:+1000
TZNAME:AEST
DTSTART:20240406T160000
END:STANDARD
BEGIN:DAYLIGHT
TZOFFSETFROM:+1000
TZOFFSETTO:+1100
TZNAME:AEDT
DTSTART:20241005T160000
END:DAYLIGHT
BEGIN:STANDARD
TZOFFSETFROM:+1100
TZOFFSETTO:+1000
TZNAME:AEST
DTSTART:20250405T160000
END:STANDARD
BEGIN:DAYLIGHT
TZOFFSETFROM:+1000
TZOFFSETTO:+1100
TZNAME:AEDT
DTSTART:20251004T160000
END:DAYLIGHT
BEGIN:STANDARD
TZOFFSETFROM:+1100
TZOFFSETTO:+1000
TZNAME:AEST
DTSTART:20260404T160000
END:STANDARD
BEGIN:DAYLIGHT
TZOFFSETFROM:+1000
TZOFFSETTO:+1100
TZNAME:AEDT
DTSTART:20261003T160000
END:DAYLIGHT
END:VTIMEZONE
BEGIN:VEVENT
DTSTART;TZID=Australia/Melbourne:20251015T100000
DTEND;TZID=Australia/Melbourne:20251015T110000
DTSTAMP:20260423T041406
CREATED:20251001T015324Z
LAST-MODIFIED:20251014T000432Z
UID:7158-1760522400-1760526000@nhw.com.au
SUMMARY:Paws and Connect
DESCRIPTION:A relaxed\, pet-friendly cafe\, the Salty Dog\, will be a great venue for Torquay Police members and Neighbourhood Watch to connect with local dog owners and chat about home security while "walking their alarm".
URL:https://nhw.com.au/event/coffee-cops-pups/
LOCATION:Salty Dog Café\, 47 The Esplanade\, Torquay\, VIC\, 3228\, Australia
CATEGORIES:Crime Prevention Month
ATTACH;FMTTYPE=image/png:https://nhw.com.au/wp-content/uploads/Crime-Prevention-Month-2.png
END:VEVENT
BEGIN:VEVENT
DTSTART;TZID=Australia/Melbourne:20251015T120000
DTEND;TZID=Australia/Melbourne:20251015T130000
DTSTAMP:20260423T041406
CREATED:20251006T051109Z
LAST-MODIFIED:20251006T051109Z
UID:7198-1760529600-1760533200@nhw.com.au
SUMMARY:Keeping Your Business Secure
DESCRIPTION:Discover how to safeguard your business in this free\, interactive lunch and learn session for Stonnington businesses. \nHear from Victoria Police on strategies to help protect your workplace\, staff and assets. \nDuring this online session you will: \n\nlearn tips and tools to boost your everyday security practices.\nlearn about preventing theft\, conflict and other risks.\nunderstand how using technology can strengthen security.\nhave the opportunity to ask Victoria Police questions.\n\nPre-booking is required. Register here: Book now \nThis webinar is part of a free\, five-part 'lunch and learn' series for small businesses in October as part of Community Safety Month. Discover other business events in the series.
URL:https://nhw.com.au/event/keeping-your-business-secure/
LOCATION:Victoria
CATEGORIES:Crime Prevention Month
ATTACH;FMTTYPE=image/png:https://nhw.com.au/wp-content/uploads/Crime-Prevention-Month-2.png
END:VEVENT
BEGIN:VEVENT
DTSTART;TZID=Australia/Melbourne:20251015T193000
DTEND;TZID=Australia/Melbourne:20251015T203000
DTSTAMP:20260423T041406
CREATED:20250820T224819Z
LAST-MODIFIED:20250827T060347Z
UID:6937-1760556600-1760560200@nhw.com.au
SUMMARY:Monash Open Residents Meeting and Information Evening
DESCRIPTION:Date of the event\n\n\n15/10/2025\n\n\nTime of event\n\n\n7:30 PM\n\n\nAddress\n\n\nMt Waverley Community Centre\, Main Hall\, Miller Crescent\, Mt Waverley\, 3149\n\n\nEvent Description\n\n\nYouth & Crime Guest Speaker: Senior Constable Jaclyn Mahood. Jaclyn will talk about her experiences in dealing with youth and crime. \nJaclyn has been a Police officer for 7 years with experience as a Police custody officer and as a police prison guard. Jaclyn has been working in the Proactive policing unit for the last 3.5 years looking after all schools in Monash and early intervention with youth offenders and victims in that area.
URL:https://nhw.com.au/event/monash-open-residents-meeting-and-information-evening/
LOCATION:Victoria
CATEGORIES:Crime Prevention Month
ATTACH;FMTTYPE=image/png:https://nhw.com.au/wp-content/uploads/Crime-Prevention-Month-2.png
END:VEVENT
END:VCALENDAR