


BEGIN:VCALENDAR
VERSION:2.0
PRODID:-//Neighbourhood Watch Victoria - ECPv6.15.20//NONSGML v1.0//EN
CALSCALE:GREGORIAN
METHOD:PUBLISH
X-ORIGINAL-URL:https://nhw.com.au
X-WR-CALDESC:Events for Neighbourhood Watch Victoria
REFRESH-INTERVAL;VALUE=DURATION:PT1H
X-Robots-Tag:noindex
X-PUBLISHED-TTL:PT1H
BEGIN:VTIMEZONE
TZID:Australia/Melbourne
BEGIN:STANDARD
TZOFFSETFROM:+1100
TZOFFSETTO:+1000
TZNAME:AEST
DTSTART:20240406T160000
END:STANDARD
BEGIN:DAYLIGHT
TZOFFSETFROM:+1000
TZOFFSETTO:+1100
TZNAME:AEDT
DTSTART:20241005T160000
END:DAYLIGHT
BEGIN:STANDARD
TZOFFSETFROM:+1100
TZOFFSETTO:+1000
TZNAME:AEST
DTSTART:20250405T160000
END:STANDARD
BEGIN:DAYLIGHT
TZOFFSETFROM:+1000
TZOFFSETTO:+1100
TZNAME:AEDT
DTSTART:20251004T160000
END:DAYLIGHT
BEGIN:STANDARD
TZOFFSETFROM:+1100
TZOFFSETTO:+1000
TZNAME:AEST
DTSTART:20260404T160000
END:STANDARD
BEGIN:DAYLIGHT
TZOFFSETFROM:+1000
TZOFFSETTO:+1100
TZNAME:AEDT
DTSTART:20261003T160000
END:DAYLIGHT
END:VTIMEZONE
BEGIN:VEVENT
DTSTART;TZID=Australia/Melbourne:20251014T070000
DTEND;TZID=Australia/Melbourne:20251014T100000
DTSTAMP:20260423T041138
CREATED:20251001T054239Z
LAST-MODIFIED:20251001T054239Z
UID:7174-1760425200-1760436000@nhw.com.au
SUMMARY:Tradies Breakfast (Greater Geelong)
DESCRIPTION:An early morning focus over a Bunnings Breakfast for Tradies\, we will raise awareness of Tradies about reducing tool thefts and provide free marking of tools.
URL:https://nhw.com.au/event/tradies-breakfast-greater-geelong/
LOCATION:Bunnings Waurn Ponds\, 237 Colac Road\, Waurn Ponds\, VIC\, 3216\, Australia
CATEGORIES:Crime Prevention Month
ATTACH;FMTTYPE=image/png:https://nhw.com.au/wp-content/uploads/Crime-Prevention-Month-2.png
END:VEVENT
BEGIN:VEVENT
DTSTART;TZID=Australia/Melbourne:20251014T120000
DTEND;TZID=Australia/Melbourne:20251014T130000
DTSTAMP:20260423T041138
CREATED:20251006T052719Z
LAST-MODIFIED:20251006T053006Z
UID:7212-1760443200-1760446800@nhw.com.au
SUMMARY:Stonnington City Council: Cyber Security Essentials For Small Business
DESCRIPTION:The Cyber Wardens Foundations webinar is an interactive way to learn the cyber security essentials you need to help protect your small business. \nThis format is designed for small business owners and employees who prefer learning through live engagement with a Cyber Wardens educator. \nCyber Wardens Foundations is a short introduction to cyber security that helps you identify the seven cyber security red flags that pose a risk or threat to your small business. \nIn this free webinar\, you will learn: \n\n\n\n\n\nThe biggest cyber security risks targeting small businesses  \nRed flags and warning signs your business is at risk  \nEveryday habits that make you more vulnerable to cyber crime \nHow to identify cyber security red flags​\n\nRegister here: https://cyberwardens.com.au/partner/city-of-stonnington/
URL:https://nhw.com.au/event/cyber-security-essentials-for-small-business/
LOCATION:Online
CATEGORIES:Crime Prevention Month
ATTACH;FMTTYPE=image/png:https://nhw.com.au/wp-content/uploads/Crime-Prevention-Month-2.png
END:VEVENT
END:VCALENDAR