


BEGIN:VCALENDAR
VERSION:2.0
PRODID:-//Neighbourhood Watch Victoria - ECPv6.15.20//NONSGML v1.0//EN
CALSCALE:GREGORIAN
METHOD:PUBLISH
X-ORIGINAL-URL:https://nhw.com.au
X-WR-CALDESC:Events for Neighbourhood Watch Victoria
REFRESH-INTERVAL;VALUE=DURATION:PT1H
X-Robots-Tag:noindex
X-PUBLISHED-TTL:PT1H
BEGIN:VTIMEZONE
TZID:Australia/Melbourne
BEGIN:STANDARD
TZOFFSETFROM:+1100
TZOFFSETTO:+1000
TZNAME:AEST
DTSTART:20240406T160000
END:STANDARD
BEGIN:DAYLIGHT
TZOFFSETFROM:+1000
TZOFFSETTO:+1100
TZNAME:AEDT
DTSTART:20241005T160000
END:DAYLIGHT
BEGIN:STANDARD
TZOFFSETFROM:+1100
TZOFFSETTO:+1000
TZNAME:AEST
DTSTART:20250405T160000
END:STANDARD
BEGIN:DAYLIGHT
TZOFFSETFROM:+1000
TZOFFSETTO:+1100
TZNAME:AEDT
DTSTART:20251004T160000
END:DAYLIGHT
BEGIN:STANDARD
TZOFFSETFROM:+1100
TZOFFSETTO:+1000
TZNAME:AEST
DTSTART:20260404T160000
END:STANDARD
BEGIN:DAYLIGHT
TZOFFSETFROM:+1000
TZOFFSETTO:+1100
TZNAME:AEDT
DTSTART:20261003T160000
END:DAYLIGHT
END:VTIMEZONE
BEGIN:VEVENT
DTSTART;VALUE=DATE:20251013
DTEND;VALUE=DATE:20251014
DTSTAMP:20260423T041242
CREATED:20251001T055540Z
LAST-MODIFIED:20251001T055611Z
UID:7180-1760313600-1760399999@nhw.com.au
SUMMARY:7 Day Crime Prevention Challenge (Torquay)
DESCRIPTION:he 7-Day Crime Prevention Challenge is a fun and interactive social media campaign run by NHW Torquay/JanJuc. Each day for a week\, we will post a question or scenario designed to get people thinking and talking about crime prevention. Participants comment with their answers or tips\, and use a #LocationHashtag Eg #TorquayNorth \nwww.facebook.com/nhwtorquayjanjuc
URL:https://nhw.com.au/event/7-day-crime-prevention-challenge-torquay/
LOCATION:Victoria
CATEGORIES:Crime Prevention Month
ATTACH;FMTTYPE=image/png:https://nhw.com.au/wp-content/uploads/Crime-Prevention-Month-2.png
END:VEVENT
BEGIN:VEVENT
DTSTART;TZID=Australia/Melbourne:20251013T100000
DTEND;TZID=Australia/Melbourne:20251013T120000
DTSTAMP:20260423T041242
CREATED:20251001T055354Z
LAST-MODIFIED:20251001T055354Z
UID:7177-1760349600-1760356800@nhw.com.au
SUMMARY:Coffee with a Cop (Torquay)
DESCRIPTION:Come down and enjoy a coffee and chat while catching up with members from Torquay Police and Neighbourhood Watch to discuss issues within the community.
URL:https://nhw.com.au/event/coffee-with-a-cop-torquay/
LOCATION:Bunnings Torquay\, 1 Beacon Blvd\, Torquay\, Australia
CATEGORIES:Crime Prevention Month
ATTACH;FMTTYPE=image/png:https://nhw.com.au/wp-content/uploads/Crime-Prevention-Month-2.png
END:VEVENT
END:VCALENDAR