


BEGIN:VCALENDAR
VERSION:2.0
PRODID:-//Neighbourhood Watch Victoria - ECPv6.15.20//NONSGML v1.0//EN
CALSCALE:GREGORIAN
METHOD:PUBLISH
X-WR-CALNAME:Neighbourhood Watch Victoria
X-ORIGINAL-URL:https://nhw.com.au
X-WR-CALDESC:Events for Neighbourhood Watch Victoria
REFRESH-INTERVAL;VALUE=DURATION:PT1H
X-Robots-Tag:noindex
X-PUBLISHED-TTL:PT1H
BEGIN:VTIMEZONE
TZID:Australia/Melbourne
BEGIN:STANDARD
TZOFFSETFROM:+1100
TZOFFSETTO:+1000
TZNAME:AEST
DTSTART:20240406T160000
END:STANDARD
BEGIN:DAYLIGHT
TZOFFSETFROM:+1000
TZOFFSETTO:+1100
TZNAME:AEDT
DTSTART:20241005T160000
END:DAYLIGHT
BEGIN:STANDARD
TZOFFSETFROM:+1100
TZOFFSETTO:+1000
TZNAME:AEST
DTSTART:20250405T160000
END:STANDARD
BEGIN:DAYLIGHT
TZOFFSETFROM:+1000
TZOFFSETTO:+1100
TZNAME:AEDT
DTSTART:20251004T160000
END:DAYLIGHT
BEGIN:STANDARD
TZOFFSETFROM:+1100
TZOFFSETTO:+1000
TZNAME:AEST
DTSTART:20260404T160000
END:STANDARD
BEGIN:DAYLIGHT
TZOFFSETFROM:+1000
TZOFFSETTO:+1100
TZNAME:AEDT
DTSTART:20261003T160000
END:DAYLIGHT
END:VTIMEZONE
BEGIN:VEVENT
DTSTART;TZID=Australia/Melbourne:20251009T120000
DTEND;TZID=Australia/Melbourne:20251009T130000
DTSTAMP:20260423T041404
CREATED:20251006T052143Z
LAST-MODIFIED:20251006T052143Z
UID:7209-1760011200-1760014800@nhw.com.au
SUMMARY:Stonnington City Council: Managing Conflict Through Negotiation
DESCRIPTION:Discover how to manage customer conflict through negotiation in this interactive lunch and learn session. \nConflict Resolution Training and Consultancy will discuss the importance of preparation in dealing with difficult customers. This is vital for maintaining and maximising welfare in the workplace. \nDuring this session\, you will: \n\nlearn how to improve negotiating skills\nimprove complaint resolution skills and avoiding customer conflicts\nhelp avoid unnecessary stress in the workplace\nimprove your own safety.\n\nFree online lunch and learn event. Pre-booking required. Book now \nThis webinar is part of a free\, five-part 'lunch and learn' series for small business in October as part of Community Safety Month. Discover other business events in the series.
URL:https://nhw.com.au/event/stonnington-city-council-managing-conflict-through-negotiation/
LOCATION:Online
CATEGORIES:Crime Prevention Month
ATTACH;FMTTYPE=image/png:https://nhw.com.au/wp-content/uploads/Crime-Prevention-Month-2.png
END:VEVENT
BEGIN:VEVENT
DTSTART;TZID=Australia/Melbourne:20251009T120000
DTEND;TZID=Australia/Melbourne:20251009T140000
DTSTAMP:20260423T041404
CREATED:20250929T044725Z
LAST-MODIFIED:20250929T052306Z
UID:7065-1760011200-1760018400@nhw.com.au
SUMMARY:Coffee with a Cop (Monash M-City)
DESCRIPTION:Enjoy a free cuppa with our local Monash police. \nThis is a casual drop in catch-up for residents and business to ask questions\, learn about community safety issues and hear what our police do to support our community. \nM-City (noon—2pm) - Bon Bons Cafe. Please check the Eyewatch Monash Face-book page on the day for the final details.
URL:https://nhw.com.au/event/coffee-with-a-cop-monash-m-city/
LOCATION:M-City Bon-Bons Café\, 2107 Dandenong Road\, Clayton\, Victoria\, 3168\, Australia
CATEGORIES:Crime Prevention Month
ATTACH;FMTTYPE=image/png:https://nhw.com.au/wp-content/uploads/Crime-Prevention-Month.png
END:VEVENT
END:VCALENDAR