


BEGIN:VCALENDAR
VERSION:2.0
PRODID:-//Neighbourhood Watch Victoria - ECPv6.15.20//NONSGML v1.0//EN
CALSCALE:GREGORIAN
METHOD:PUBLISH
X-WR-CALNAME:Neighbourhood Watch Victoria
X-ORIGINAL-URL:https://nhw.com.au
X-WR-CALDESC:Events for Neighbourhood Watch Victoria
REFRESH-INTERVAL;VALUE=DURATION:PT1H
X-Robots-Tag:noindex
X-PUBLISHED-TTL:PT1H
BEGIN:VTIMEZONE
TZID:Australia/Melbourne
BEGIN:STANDARD
TZOFFSETFROM:+1100
TZOFFSETTO:+1000
TZNAME:AEST
DTSTART:20240406T160000
END:STANDARD
BEGIN:DAYLIGHT
TZOFFSETFROM:+1000
TZOFFSETTO:+1100
TZNAME:AEDT
DTSTART:20241005T160000
END:DAYLIGHT
BEGIN:STANDARD
TZOFFSETFROM:+1100
TZOFFSETTO:+1000
TZNAME:AEST
DTSTART:20250405T160000
END:STANDARD
BEGIN:DAYLIGHT
TZOFFSETFROM:+1000
TZOFFSETTO:+1100
TZNAME:AEDT
DTSTART:20251004T160000
END:DAYLIGHT
BEGIN:STANDARD
TZOFFSETFROM:+1100
TZOFFSETTO:+1000
TZNAME:AEST
DTSTART:20260404T160000
END:STANDARD
BEGIN:DAYLIGHT
TZOFFSETFROM:+1000
TZOFFSETTO:+1100
TZNAME:AEDT
DTSTART:20261003T160000
END:DAYLIGHT
END:VTIMEZONE
BEGIN:VEVENT
DTSTART;TZID=Australia/Melbourne:20251007T120000
DTEND;TZID=Australia/Melbourne:20251007T130000
DTSTAMP:20260423T040904
CREATED:20251006T051414Z
LAST-MODIFIED:20251006T051414Z
UID:7201-1759838400-1759842000@nhw.com.au
SUMMARY:Stonington City Council: Mental Health is Everyone's Business
DESCRIPTION:Hear from the Black Dog Institute on workplace mental health and wellbeing\, and the inextricable link between work and overall wellness\, given we spend one third of our adult lives working. \nDuring this session\, you will: \n\nlearn about the prevalence of mental health conditions\nunderstand the causes\, signs and symptoms of common mental health conditions including depression\, stress and anxiety\nfind out what help is available\nunderstand five core concepts of wellbeing and how these translate into daily life.\n\nFree lunch and learn session. Pre-booking is required. Book here: Book now \nThis webinar is part of a free\, five-part 'lunch and learn' series for small business in October as part of Community Safety Month. Discover other business events in the series.
URL:https://nhw.com.au/event/stonington-city-council-mental-health-is-everyones-business/
LOCATION:Victoria
CATEGORIES:Crime Prevention Month
ATTACH;FMTTYPE=image/png:https://nhw.com.au/wp-content/uploads/Crime-Prevention-Month-2.png
END:VEVENT
END:VCALENDAR