


BEGIN:VCALENDAR
VERSION:2.0
PRODID:-//Neighbourhood Watch Victoria - ECPv6.15.20//NONSGML v1.0//EN
CALSCALE:GREGORIAN
METHOD:PUBLISH
X-WR-CALNAME:Neighbourhood Watch Victoria
X-ORIGINAL-URL:https://nhw.com.au
X-WR-CALDESC:Events for Neighbourhood Watch Victoria
REFRESH-INTERVAL;VALUE=DURATION:PT1H
X-Robots-Tag:noindex
X-PUBLISHED-TTL:PT1H
BEGIN:VTIMEZONE
TZID:Australia/Melbourne
BEGIN:STANDARD
TZOFFSETFROM:+1100
TZOFFSETTO:+1000
TZNAME:AEST
DTSTART:20240406T160000
END:STANDARD
BEGIN:DAYLIGHT
TZOFFSETFROM:+1000
TZOFFSETTO:+1100
TZNAME:AEDT
DTSTART:20241005T160000
END:DAYLIGHT
BEGIN:STANDARD
TZOFFSETFROM:+1100
TZOFFSETTO:+1000
TZNAME:AEST
DTSTART:20250405T160000
END:STANDARD
BEGIN:DAYLIGHT
TZOFFSETFROM:+1000
TZOFFSETTO:+1100
TZNAME:AEDT
DTSTART:20251004T160000
END:DAYLIGHT
BEGIN:STANDARD
TZOFFSETFROM:+1100
TZOFFSETTO:+1000
TZNAME:AEST
DTSTART:20260404T160000
END:STANDARD
BEGIN:DAYLIGHT
TZOFFSETFROM:+1000
TZOFFSETTO:+1100
TZNAME:AEDT
DTSTART:20261003T160000
END:DAYLIGHT
END:VTIMEZONE
BEGIN:VEVENT
DTSTART;TZID=Australia/Melbourne:20251004T080000
DTEND;TZID=Australia/Melbourne:20251004T120000
DTSTAMP:20260423T040853
CREATED:20250929T044146Z
LAST-MODIFIED:20250929T052409Z
UID:7054-1759564800-1759579200@nhw.com.au
SUMMARY:Rutherglen Information Day
DESCRIPTION:Learn Crime Prevention tips and meet our local NHW group. Registration is not required.
URL:https://nhw.com.au/event/rutherglen-information-day/
LOCATION:Rutherglen Post Office\, 83 Main Street\, Rutherglen\, Victoria\, 3685\, Australia
CATEGORIES:Crime Prevention Month
ATTACH;FMTTYPE=image/png:https://nhw.com.au/wp-content/uploads/Crime-Prevention-Month.png
END:VEVENT
BEGIN:VEVENT
DTSTART;TZID=Australia/Melbourne:20251004T090000
DTEND;TZID=Australia/Melbourne:20251004T170000
DTSTAMP:20260423T040853
CREATED:20250929T041623Z
LAST-MODIFIED:20250929T052347Z
UID:7048-1759568400-1759597200@nhw.com.au
SUMMARY:Emergency Services Pop Up Event (Banyule)
DESCRIPTION:Meet your local emergency services groups - SES\, Police\, Fire Services\, and NHW provide information to members of the public.
URL:https://nhw.com.au/event/emergency-services-pop-up-event-banyule/
LOCATION:Northland Shopping Centre\, 2-50 Murray Rd\, Preston\, Australia
CATEGORIES:Crime Prevention Month
ATTACH;FMTTYPE=image/png:https://nhw.com.au/wp-content/uploads/Crime-Prevention-Month.png
END:VEVENT
END:VCALENDAR