


BEGIN:VCALENDAR
VERSION:2.0
PRODID:-//Neighbourhood Watch Victoria - ECPv6.15.20//NONSGML v1.0//EN
CALSCALE:GREGORIAN
METHOD:PUBLISH
X-ORIGINAL-URL:https://nhw.com.au
X-WR-CALDESC:Events for Neighbourhood Watch Victoria
REFRESH-INTERVAL;VALUE=DURATION:PT1H
X-Robots-Tag:noindex
X-PUBLISHED-TTL:PT1H
BEGIN:VTIMEZONE
TZID:Australia/Melbourne
BEGIN:STANDARD
TZOFFSETFROM:+1100
TZOFFSETTO:+1000
TZNAME:AEST
DTSTART:20240406T160000
END:STANDARD
BEGIN:DAYLIGHT
TZOFFSETFROM:+1000
TZOFFSETTO:+1100
TZNAME:AEDT
DTSTART:20241005T160000
END:DAYLIGHT
BEGIN:STANDARD
TZOFFSETFROM:+1100
TZOFFSETTO:+1000
TZNAME:AEST
DTSTART:20250405T160000
END:STANDARD
BEGIN:DAYLIGHT
TZOFFSETFROM:+1000
TZOFFSETTO:+1100
TZNAME:AEDT
DTSTART:20251004T160000
END:DAYLIGHT
BEGIN:STANDARD
TZOFFSETFROM:+1100
TZOFFSETTO:+1000
TZNAME:AEST
DTSTART:20260404T160000
END:STANDARD
BEGIN:DAYLIGHT
TZOFFSETFROM:+1000
TZOFFSETTO:+1100
TZNAME:AEDT
DTSTART:20261003T160000
END:DAYLIGHT
END:VTIMEZONE
BEGIN:VEVENT
DTSTART;TZID=Australia/Melbourne:20250831T100000
DTEND;TZID=Australia/Melbourne:20250831T140000
DTSTAMP:20260423T080720
CREATED:20250731T041111Z
LAST-MODIFIED:20250731T041158Z
UID:6882-1756634400-1756648800@nhw.com.au
SUMMARY:Safe Plate Doncaster
DESCRIPTION:Stop thieves stealing your number plates. Neighbourhood Watch\, in conjunction with Victoria Police\, can fit one-way theft-resistant screws to your number plates to reduce the risk of your plates being stolen. \nStolen number plates are often used in other crimes\, such as petrol theft. It only takes a few minutes for our Neighbourhood Watch volunteers to fit your plates with one-way screws\, reducing the chance of you becoming a victim of crime. \nAny donation to support Neighbourhood Watch would be appreciated.\nThe RACV will also be there to check your car battery and tyres \nDate & Time: Sunday\, 31 August 2025\,10:00 am to 2:00 pm \nVenue: Behind the Manningham Council Offices\, 699 Doncaster Road\, Doncaster
URL:https://nhw.com.au/event/safe-plate-doncaster/
LOCATION:Victoria
CATEGORIES:Safe Plate
ATTACH;FMTTYPE=image/jpeg:https://nhw.com.au/wp-content/uploads/Get-involved-section-scaled.jpg
END:VEVENT
END:VCALENDAR