


BEGIN:VCALENDAR
VERSION:2.0
PRODID:-//Neighbourhood Watch Victoria - ECPv6.15.20//NONSGML v1.0//EN
CALSCALE:GREGORIAN
METHOD:PUBLISH
X-ORIGINAL-URL:https://nhw.com.au
X-WR-CALDESC:Events for Neighbourhood Watch Victoria
REFRESH-INTERVAL;VALUE=DURATION:PT1H
X-Robots-Tag:noindex
X-PUBLISHED-TTL:PT1H
BEGIN:VTIMEZONE
TZID:Australia/Melbourne
BEGIN:STANDARD
TZOFFSETFROM:+1100
TZOFFSETTO:+1000
TZNAME:AEST
DTSTART:20240406T160000
END:STANDARD
BEGIN:DAYLIGHT
TZOFFSETFROM:+1000
TZOFFSETTO:+1100
TZNAME:AEDT
DTSTART:20241005T160000
END:DAYLIGHT
BEGIN:STANDARD
TZOFFSETFROM:+1100
TZOFFSETTO:+1000
TZNAME:AEST
DTSTART:20250405T160000
END:STANDARD
BEGIN:DAYLIGHT
TZOFFSETFROM:+1000
TZOFFSETTO:+1100
TZNAME:AEDT
DTSTART:20251004T160000
END:DAYLIGHT
BEGIN:STANDARD
TZOFFSETFROM:+1100
TZOFFSETTO:+1000
TZNAME:AEST
DTSTART:20260404T160000
END:STANDARD
BEGIN:DAYLIGHT
TZOFFSETFROM:+1000
TZOFFSETTO:+1100
TZNAME:AEDT
DTSTART:20261003T160000
END:DAYLIGHT
END:VTIMEZONE
BEGIN:VEVENT
DTSTART;TZID=Australia/Melbourne:20250814T110000
DTEND;TZID=Australia/Melbourne:20250814T130000
DTSTAMP:20260423T080720
CREATED:20250529T185038Z
LAST-MODIFIED:20250529T185213Z
UID:6810-1755169200-1755176400@nhw.com.au
SUMMARY:Coffee with a Cop (The Glen)
DESCRIPTION:Enjoy a free cuppa with our local Monash police. \nThis is a casual drop-in catch-up for residents and businesses to ask questions\, learn about community safety issues and hear what our police do to support our community on the 12th of June\, 11 am - 1 pm at the Soul Origin Cafe\, The Glen.
URL:https://nhw.com.au/event/coffee-with-a-cop-the-glen/
LOCATION:Victoria
CATEGORIES:Coffee & Chat
ATTACH;FMTTYPE=image/jpeg:https://nhw.com.au/wp-content/uploads/Coffee-With-a-Copy-Parkmore-Keysborough.jpg
END:VEVENT
END:VCALENDAR