


BEGIN:VCALENDAR
VERSION:2.0
PRODID:-//Neighbourhood Watch Victoria - ECPv6.15.20//NONSGML v1.0//EN
CALSCALE:GREGORIAN
METHOD:PUBLISH
X-WR-CALNAME:Neighbourhood Watch Victoria
X-ORIGINAL-URL:https://nhw.com.au
X-WR-CALDESC:Events for Neighbourhood Watch Victoria
REFRESH-INTERVAL;VALUE=DURATION:PT1H
X-Robots-Tag:noindex
X-PUBLISHED-TTL:PT1H
BEGIN:VTIMEZONE
TZID:Australia/Melbourne
BEGIN:STANDARD
TZOFFSETFROM:+1100
TZOFFSETTO:+1000
TZNAME:AEST
DTSTART:20240406T160000
END:STANDARD
BEGIN:DAYLIGHT
TZOFFSETFROM:+1000
TZOFFSETTO:+1100
TZNAME:AEDT
DTSTART:20241005T160000
END:DAYLIGHT
BEGIN:STANDARD
TZOFFSETFROM:+1100
TZOFFSETTO:+1000
TZNAME:AEST
DTSTART:20250405T160000
END:STANDARD
BEGIN:DAYLIGHT
TZOFFSETFROM:+1000
TZOFFSETTO:+1100
TZNAME:AEDT
DTSTART:20251004T160000
END:DAYLIGHT
BEGIN:STANDARD
TZOFFSETFROM:+1100
TZOFFSETTO:+1000
TZNAME:AEST
DTSTART:20260404T160000
END:STANDARD
BEGIN:DAYLIGHT
TZOFFSETFROM:+1000
TZOFFSETTO:+1100
TZNAME:AEDT
DTSTART:20261003T160000
END:DAYLIGHT
END:VTIMEZONE
BEGIN:VEVENT
DTSTART;TZID=Australia/Melbourne:20250621T100000
DTEND;TZID=Australia/Melbourne:20250621T140000
DTSTAMP:20260423T105008
CREATED:20250512T041511Z
LAST-MODIFIED:20250512T041511Z
UID:6765-1750500000-1750514400@nhw.com.au
SUMMARY:Safe Plate Waurn Ponds
DESCRIPTION:Prevent your vehicle plates from being stolen and have anti-theft one-way screws applied to your car! Gold coin donation is appreciated. This event will be run by NHW Geelong\, SES\, Bunnings and VicPol. It will be held on the 21st of June 2025 from 10 am to 2 pm at Bunnings Waurn Ponds (rear carpark) 237 Colac Road\, Waurn Ponds. \nWhile you’re waiting for your plate screws to be applied\, head on over to the entrance of Bunnings to purchase a hot sausage in bread or chilled drink between 10 am and 2 pm.
URL:https://nhw.com.au/event/safe-plate-waurn-ponds/
LOCATION:Victoria
END:VEVENT
END:VCALENDAR